BEGIN:VCALENDAR
VERSION:2.0
PRODID:-//eventon.com NONSGML v1.0//EN
CALSCALE:GREGORIAN
METHOD:PUBLISH
BEGIN:VEVENT
UID:69ea2f718f3f5
DTSTAMP:20260423T144049Z
DTSTART:20260515T000000Z
DTEND:20260515T013000Z
LOCATION:Epiphany Center For The Arts: The Sanctuary 201 S Ashland Ave\,  Chicago\,  IL 60607
SUMMARY:Musicality of Poetry
DESCRIPTION:Musicality of Poetry Date: Thursday\,  May 14th\,  2026 Doors: 
 5:00PM to Venue | 6:30PM to Sanctuary Showtime: 7:00PM Tickets: Advanced - 
 $15 (+$4.57 fees\,  including tax) Day of Show - $20 (+$4.72 fees\,  includ
 ing tax) ‘Service charges apply to ALL ticket purchases (online and box o
 ffice)’ - Credit card only[..]\nhttps://epiphanychi.com/events/musicality
 -of-poetry/
URL:https://epiphanychi.com/events/musicality-of-poetry/
END:VEVENT
END:VCALENDAR