BEGIN:VCALENDAR
VERSION:2.0
PRODID:-//eventon.com NONSGML v1.0//EN
CALSCALE:GREGORIAN
METHOD:PUBLISH
BEGIN:VEVENT
UID:69ea2f189109c
DTSTAMP:20260423T143920Z
DTSTART:20260531T210000Z
DTEND:20260531T230000Z
LOCATION:Epiphany Center For The Arts: The Courtyard 201 S Ashland Ave\,  Chicago\,  IL 60607
SUMMARY:Live on the Lawn Featuring Stefan Hillesheim Trio
DESCRIPTION:Live on the Lawn Featuring Stefan Hillesheim Trio Date: Sunday\
 ,  May 31st\,  2026 Doors: 3:30PM Showtime: 4:00PM Tickets: FREE ADMISSION 
 | RSVP BELOW RAIN OF SHINE! About: Stefan Hillesheim is a German Native who
  moved to Los Angeles\,  California at age 27 to attend Musicians Institute
  (GIT) where he was[..]\nhttps://epiphanychi.com/events/live-on-the-lawn-fe
 aturing-stefan-hillesheim-trio-5-31/
URL:https://epiphanychi.com/events/live-on-the-lawn-featuring-stefan-hillesheim-trio-5-31/
END:VEVENT
END:VCALENDAR