BEGIN:VCALENDAR
VERSION:2.0
PRODID:-//eventon.com NONSGML v1.0//EN
CALSCALE:GREGORIAN
METHOD:PUBLISH
BEGIN:VEVENT
UID:69ea2f4d7a329
DTSTAMP:20260423T144013Z
DTSTART:20260528T003000Z
DTEND:20260528T020000Z
LOCATION:Epiphany Center For The Arts: The Sanctuary 201 S Ashland Ave\,  Chicago\,  IL 60607
SUMMARY:LMT Trio
DESCRIPTION:LMT Trio Date: Wednesday\,  May 27th\,  2026 Doors: 5:00PM to V
 enue | 7:00PM to Sanctuary Showtime: 7:30PM Tickets: Early Bird - $15 (+$4.
 57 fees\,  including tax) General Admission - $20 (+$4.72 fees\,  including
  tax) ‘Service charges apply to ALL ticket purchases (online and box offi
 ce)’ - Credit card only at[..]\nhttps://epiphanychi.com/events/lmt-trio/
URL:https://epiphanychi.com/events/lmt-trio/
END:VEVENT
END:VCALENDAR