BEGIN:VCALENDAR
VERSION:2.0
PRODID:-//eventon.com NONSGML v1.0//EN
CALSCALE:GREGORIAN
METHOD:PUBLISH
BEGIN:VEVENT
UID:69eba67fc42f5
DTSTAMP:20260424T172103Z
DTSTART:20260607T200000Z
DTEND:20260607T213000Z
LOCATION:Epiphany Center For The Arts: The Courtyard 201 S Ashland Ave\,  Chicago\,  IL 60607
SUMMARY:Thunder and Tranquility: A Gamelan Journey
DESCRIPTION:Thunder and Tranquility: A Gamelan Journey Date: Sunday\,  June
  7th\,  2026 Doors: 2:00PM Showtime: 3:00PM Tickets: General Admission (Age
 s 13+) - $20 (+$4.72 fees\,  including tax) General Admission (Ages Under 1
 3) - Free RSVP ‘Service charges apply to ALL ticket purchases (online and
  box office)’ - Credit card only at[..]\nhttps://epiphanychi.com/events/t
 hunder-and-tranquility-a-gamelan-journey/
URL:https://epiphanychi.com/events/thunder-and-tranquility-a-gamelan-journey/
END:VEVENT
END:VCALENDAR