BEGIN:VCALENDAR
VERSION:2.0
PRODID:-//eventon.com NONSGML v1.0//EN
CALSCALE:GREGORIAN
METHOD:PUBLISH
BEGIN:VEVENT
UID:69eab282c9d43
DTSTAMP:20260424T000002Z
DTSTART:20260521T220000Z
DTEND:20260522T010000Z
LOCATION:Epiphany Center For The Arts: Café Bar 201 S Ashland Ave\,  Chicago\,  IL 60607
SUMMARY:Golden Hour Featuring Martin Metzger Flamenco-Jazz Duo w/ Juan Pastor
DESCRIPTION:Join us in the Cafe Bar Thursday through Saturday for free live
  music\,  starting at 5PM until 8PM. Enjoy our exclusive food and drink spe
 cials until 7PM! Golden Hour at Epiphany Center for the Arts is accentuated
  by free live music with food and drink specials\,  and\,  good friends… 
 creating[..]\nhttps://epiphanychi.com/events/golden-hour-featuring-martin-m
 etzger-flamenco-jazz-trio-w-juan-pastor-and-freddy-quintero/
URL:https://epiphanychi.com/events/golden-hour-featuring-martin-metzger-flamenco-jazz-trio-w-juan-pastor-and-freddy-quintero/
END:VEVENT
END:VCALENDAR