BEGIN:VCALENDAR
VERSION:2.0
PRODID:-//eventon.com NONSGML v1.0//EN
CALSCALE:GREGORIAN
METHOD:PUBLISH
BEGIN:VEVENT
UID:69eba622af4fb
DTSTAMP:20260424T171930Z
DTSTART:20260606T003000Z
DTEND:20260606T023000Z
LOCATION:Epiphany Center For The Arts: The Sanctuary 201 S Ashland Ave\,  Chicago\,  IL 60607
SUMMARY:ANDIE & The Bandits / Tommy Bravos / Aurin
DESCRIPTION:ANDIE &amp; The Bandits / Tommy Bravos / Aurin Date: Friday\,  
 June 5th\,  2026 Doors: 5:00PM to Venue | 7:00PM to Sanctuary Showtime: 7:3
 0PM Tickets: Early Bird - $15 (+$4.57 fees\,  including tax) General Admiss
 ion - $20 (+$4.72 fees\,  including tax) ‘Service charges apply to ALL ti
 cket purchases (online and[..]\nhttps://epiphanychi.com/events/andie-the-ba
 ndits-tommy-bravos-aurin/
URL:https://epiphanychi.com/events/andie-the-bandits-tommy-bravos-aurin/
END:VEVENT
END:VCALENDAR