BEGIN:VCALENDAR
VERSION:2.0
PRODID:-//eventon.com NONSGML v1.0//EN
CALSCALE:GREGORIAN
METHOD:PUBLISH
BEGIN:VEVENT
UID:69eb6382e2fff
DTSTAMP:20260424T123514Z
DTSTART:20260529T000000Z
DTEND:20260529T020000Z
LOCATION:Epiphany Center For The Arts: The Sanctuary 201 S Ashland Ave\,  Chicago\,  IL 60607
SUMMARY:Emma Ohm w/ Strings4Jesus & Jimmy G
DESCRIPTION:Emma Ohm w/ Strings4Jesus &amp; Jimmy G Date: Thursday\,  May 2
 8th\,  2026 Doors: 5:00PM to Venue | 6:30PM to Sanctuary Showtime: 7:00PM T
 ickets: Early Bird - $15 (+$4.57 fees\,  including tax) General Admision - 
 $20 (+$4.72 fees\,  including tax) ‘Service charges apply to ALL ticket p
 urchases (online and box office)’[..]\nhttps://epiphanychi.com/events/emm
 a-ohm-w-strings4jesus-jimmy-g/
URL:https://epiphanychi.com/events/emma-ohm-w-strings4jesus-jimmy-g/
END:VEVENT
END:VCALENDAR